BEGIN:VCALENDAR
VERSION:2.0
PRODID:-//ARTICLE 19 MX-CA - ECPv6.15.20//NONSGML v1.0//EN
CALSCALE:GREGORIAN
METHOD:PUBLISH
X-WR-CALNAME:ARTICLE 19 MX-CA
X-ORIGINAL-URL:https://articulo19.org
X-WR-CALDESC:Eventos para ARTICLE 19 MX-CA
REFRESH-INTERVAL;VALUE=DURATION:PT1H
X-Robots-Tag:noindex
X-PUBLISHED-TTL:PT1H
BEGIN:VTIMEZONE
TZID:America/Mexico_City
BEGIN:STANDARD
TZOFFSETFROM:-0600
TZOFFSETTO:-0600
TZNAME:CST
DTSTART:20250101T000000
END:STANDARD
END:VTIMEZONE
BEGIN:VEVENT
DTSTART;TZID=America/Mexico_City:20260506T100000
DTEND;TZID=America/Mexico_City:20260507T140000
DTSTAMP:20260421T192450
CREATED:20260414T232733Z
LAST-MODIFIED:20260414T232733Z
UID:33098-1778061600-1778162400@articulo19.org
SUMMARY:Conferencia regional "Periodismo frente al silencio: diálogo sobre libertad de prensa y América Latina y el Caribe
DESCRIPTION:
URL:https://articulo19.org/evento/conferencia-regional-periodismo-frente-al-silencio-dialogo-sobre-libertad-de-prensa-y-america-latina-y-el-caribe/
LOCATION:Centro Cultural España\, República de Guatemala 18\, Centro\, Cuauhtémoc\, Ciudad de México\, CDMX\, 06020\, México
ATTACH;FMTTYPE=image/png:https://articulo19.org/wp-content/uploads/2026/04/mcv_2025_carrucel_celular_v4-01-1.png
END:VEVENT
END:VCALENDAR