BEGIN:VCALENDAR
VERSION:2.0
PRODID:-//ARTICLE 19 MX-CA - ECPv6.15.20//NONSGML v1.0//EN
CALSCALE:GREGORIAN
METHOD:PUBLISH
X-ORIGINAL-URL:https://articulo19.org
X-WR-CALDESC:Eventos para ARTICLE 19 MX-CA
REFRESH-INTERVAL;VALUE=DURATION:PT1H
X-Robots-Tag:noindex
X-PUBLISHED-TTL:PT1H
BEGIN:VTIMEZONE
TZID:America/Mexico_City
BEGIN:STANDARD
TZOFFSETFROM:-0600
TZOFFSETTO:-0600
TZNAME:CST
DTSTART:20230101T000000
END:STANDARD
END:VTIMEZONE
BEGIN:VEVENT
DTSTART;TZID=America/Mexico_City:20260408T160000
DTEND;TZID=America/Mexico_City:20260408T180000
DTSTAMP:20260421T175946
CREATED:20260406T212503Z
LAST-MODIFIED:20260406T212503Z
UID:32984-1775664000-1775671200@articulo19.org
SUMMARY:Presentación cortometraje "Bullet Machine"
DESCRIPTION:“Bullet Machine” visibiliza el impacto de la violencia contra periodistas y sus familias \n· Artículo 19\, Diario La Unión y GREY México presentan un cortometraje que expone cómo el periodismo también convierte a las familias de los periodistas en víctimas de la violencia. \n· En México continúa como uno de los países más peligrosos para hacer periodismo. Decir la verdad les ha costado la vida a 176 periodistas\, lo que ha dejado profundas heridas en sus familias.
URL:https://articulo19.org/evento/presentacion-cortometraje-bullet-machine/
LOCATION:Odisea Cinecafé\, Av. de la Paz 57-1er\, San Ángel\, Álvaro Obregón\, Ciudad de México\, CDMX\, 01000\, México
ATTACH;FMTTYPE=image/jpeg:https://articulo19.org/wp-content/uploads/2026/04/HFBItRLXcAABqyx.jpeg
END:VEVENT
BEGIN:VEVENT
DTSTART;TZID=America/Mexico_City:20260408T130000
DTEND;TZID=America/Mexico_City:20260408T140000
DTSTAMP:20260421T175946
CREATED:20260403T185802Z
LAST-MODIFIED:20260403T185941Z
UID:32952-1775653200-1775656800@articulo19.org
SUMMARY:Presentación libro "Hormigas entre gigantes"
DESCRIPTION:
URL:https://articulo19.org/evento/presentacion-libro-hormigas-entre-gigantes/
LOCATION:Colegio de San Idelfonso\, Justo Sierra 16\, Centro Histórico de la Cdad. de México\, Centro\, Ciudad de México\, 06020\, Mexico
ATTACH;FMTTYPE=image/png:https://articulo19.org/wp-content/uploads/2026/04/Image-1.png
END:VEVENT
BEGIN:VEVENT
DTSTART;TZID=America/Mexico_City:20260326T190000
DTEND;TZID=America/Mexico_City:20260326T200000
DTSTAMP:20260421T175946
CREATED:20260323T165021Z
LAST-MODIFIED:20260323T165021Z
UID:32859-1774551600-1774555200@articulo19.org
SUMMARY:Camino a la COP4: avances y retrocesos en México respecto a la implementación del Acuerdo de Escazú
DESCRIPTION:Objetivo: Dialogar desde la sociedad civil sobre los avances y retrocesos en México respecto a la ruta de implementación del Acuerdo de Escazú\, en camino a la COP4. \nDescripción: Conversatorios en modalidad space con duración de una hora\, dirigidos a un público en general. La conversación será a partir de preguntas detonadoras en una ronda\, para que cada panelista realice intervenciones intercaladas hasta por 10 minutos. La moderación pedirá a cada participante cerrar con un mensaje de cierre\, antes de abrir un espacio para preguntas del público. \nParticipantes. \n\nViridiana Maldonado Galindo -Terra Vida \nMariana Blanco – Friedrich-Ebert-Stiftung\nCarlos Ham Ramírez – Centro de Colaboración Cívica\n\nModera  Abigail Castellanos – Investigadora del Programa de Ecosistema Informativo y Tecnología de Article 19 \n  \nTransmisión en X: @article19mxca
URL:https://articulo19.org/evento/camino-a-la-cop4-avances-y-retrocesos-en-mexico-respecto-a-la-implementacion-del-acuerdo-de-escazu/
LOCATION:CDMX
ATTACH;FMTTYPE=image/jpeg:https://articulo19.org/wp-content/uploads/2026/03/Image-1.jpeg
END:VEVENT
BEGIN:VEVENT
DTSTART;TZID=America/Mexico_City:20260227T100000
DTEND;TZID=America/Mexico_City:20260227T130000
DTSTAMP:20260421T175946
CREATED:20260219T205242Z
LAST-MODIFIED:20260219T205242Z
UID:32761-1772186400-1772197200@articulo19.org
SUMMARY:Presentación investigación Veracruz de los Silencios
DESCRIPTION:
URL:https://articulo19.org/evento/presentacion-investigacion-veracruz-de-los-silencios-2/
LOCATION:CDMX
ATTACH;FMTTYPE=image/jpeg:https://articulo19.org/wp-content/uploads/2026/02/Cart-Centinelas-febrero-2026-editado.jpg
END:VEVENT
BEGIN:VEVENT
DTSTART;TZID=America/Mexico_City:20260226T170000
DTEND;TZID=America/Mexico_City:20260226T190000
DTSTAMP:20260421T175946
CREATED:20260219T205547Z
LAST-MODIFIED:20260219T205826Z
UID:32764-1772125200-1772132400@articulo19.org
SUMMARY:Hormigas y Fronteras: Dos libros sobre infancias en migración y ante la desaparición forzada
DESCRIPTION:
URL:https://articulo19.org/evento/hormigas-y-fronteras-dos-libros-sobre-infancias-en-migracion-y-ante-la-desaparicion-forzada/
LOCATION:CDMX
ATTACH;FMTTYPE=image/jpeg:https://articulo19.org/wp-content/uploads/2026/02/Image.jpeg
END:VEVENT
BEGIN:VEVENT
DTSTART;TZID=America/Mexico_City:20260210T190000
DTEND;TZID=America/Mexico_City:20260210T203000
DTSTAMP:20260421T175946
CREATED:20260205T174237Z
LAST-MODIFIED:20260205T180816Z
UID:32727-1770750000-1770755400@articulo19.org
SUMMARY:Actualización Plataforma Fosas Ciudadanas
DESCRIPTION:¿De qué tamaño es la crisis forense en México? \nTe esperamos en la presentación de los datos actualizados de la Plataforma Ciudadana de Fosas\, una iniciativa para acompañar la búsqueda de personas desaparecidas. \n  \nTransmisión en vivo en X y Youtube
URL:https://articulo19.org/evento/actualizacion-plataforma-fosas-ciudadanas/
LOCATION:CDMX
ATTACH;FMTTYPE=image/jpeg:https://articulo19.org/wp-content/uploads/2026/02/PHOTO-2026-02-05-11-57-32.jpg
END:VEVENT
BEGIN:VEVENT
DTSTART;TZID=America/Mexico_City:20251119T170000
DTEND;TZID=America/Mexico_City:20251119T183000
DTSTAMP:20260421T175946
CREATED:20251105T184127Z
LAST-MODIFIED:20251105T184127Z
UID:32203-1763571600-1763577000@articulo19.org
SUMMARY:Presentación del libro "Hormigas entre gigantes" en Chihuahua
DESCRIPTION:
URL:https://articulo19.org/evento/presentacion-del-libro-hormigas-entre-gigantes-en-chihuahua/
LOCATION:Universidad Autónoma de Chihuahua\, C. Escorza 900\, Col. Centro\, Chihuahua\, Chihuahua\, 31000\, Mexico
ATTACH;FMTTYPE=image/jpeg:https://articulo19.org/wp-content/uploads/2025/11/Presentación_Chihuahua.jpeg
END:VEVENT
BEGIN:VEVENT
DTSTART;TZID=America/Mexico_City:20251118T170000
DTEND;TZID=America/Mexico_City:20251118T183000
DTSTAMP:20260421T175946
CREATED:20251105T184856Z
LAST-MODIFIED:20251105T184856Z
UID:32207-1763485200-1763490600@articulo19.org
SUMMARY:Presentación de libro "Hormigas entre gigantes" en Ciudad Juárez
DESCRIPTION:
URL:https://articulo19.org/evento/presentacion-de-libro-hormigas-entre-gigantes-en-ciudad-juarez/
LOCATION:Museo de Arte de Ciudad Juarez\, Av. Lincoln y Coyoacán s/n\, Zona Pronaf\, Ciudad Juárez\, Chihuahua\, 32315\, Mexico
ATTACH;FMTTYPE=image/jpeg:https://articulo19.org/wp-content/uploads/2025/11/Image-15.jpeg
END:VEVENT
BEGIN:VEVENT
DTSTART;TZID=America/Mexico_City:20251114T110000
DTEND;TZID=America/Mexico_City:20251114T130000
DTSTAMP:20260421T175946
CREATED:20251113T230238Z
LAST-MODIFIED:20251113T230238Z
UID:32310-1763118000-1763125200@articulo19.org
SUMMARY:Conversatorio y presentación del podcast: Caminar con ellas\, resistencias frente a la desaparición forzada en México.
DESCRIPTION:
URL:https://articulo19.org/evento/conversatorio-y-presentacion-del-podcast-caminar-con-ellas-resistencias-frente-a-la-desaparicion-forzada-en-mexico/
LOCATION:CIALC-UNAM\, Universidad Nacional Autónoma de México\, Ciudad Universitaria\, CIALC Piso 8 Torre II de Humanidades\, Universidad Nacional Autónoma de México\, Ciudad de México\, 04510\, Mexico
ATTACH;FMTTYPE=image/jpeg:https://articulo19.org/wp-content/uploads/2025/11/caminar-con-ellas.jpg
END:VEVENT
BEGIN:VEVENT
DTSTART;TZID=America/Mexico_City:20251114T083000
DTEND;TZID=America/Mexico_City:20251114T150000
DTSTAMP:20260421T175946
CREATED:20251111T165754Z
LAST-MODIFIED:20251111T165754Z
UID:32305-1763109000-1763132400@articulo19.org
SUMMARY:Coloquio internacional Periodismo\, Libertad y Democracia
DESCRIPTION:La Silla Rota\, en el marco de su 15º aniversario\, y la Alianza de Medios Mx convocan al Coloquio internacional Periodismo\, Libertad y Democracia\, un encuentro clave para analizar el estado y los desafíos del periodismo en el contexto actual. \nEste evento se llevará a cabo el viernes 14 de noviembre de 2025 en el Auditorio del Museo Memoria y Tolerancia en la Ciudad de México a partir de las 8:30 am.  \n¡Asegura tu lugar y regístrate!\nLa entrada al Coloquio es gratuita\, completa el siguiente formulario de registro para recibir información clave del evento. Una vez inscrito\, te pedimos compartir esta invitación con tus colegas\, colaboradores y contactos interesados en la agenda. \nAgenda: \n\n\n\n8:30 – 9:00 horas – Registro \n\n\n9:00 – 9:30 horas – Ceremonia inaugural \n\n\nMensaje de Andrea Miranda\, presidenta de la Alianza de Medios Mx \n\n\nMensaje de Roberto Rock L.\, director general del Grupo La Silla Rota \n\n\n\n\n9:30 – 10:15 horas – Desafíos para la libertad de expresión en las Américas \n\n\nPedro Vaca\, relator para la Libertad de Expresión de la Comisión Interamericana de Derechos Humanos-OEA \n\n\nMartha Ramos\, directora general editorial de la Organización Editorial Mexicana y presidenta de la Comisión de Libertad de Prensa de la Sociedad Interamericana de Prensa \n\n\n\n\n10:15 – 11:00 horas – Conversatorio: El periodismo que hace falta \n\n\nRaymundo Riva Palacio\, autor\, periodista y analista político \n\n\nRicardo Raphael\, autor\, periodista y analista político \n\n\nRené Delgado\, periodista y analista en N+ y El Financiero \n\n\n\n\n11:00 – 11:15 horas –  Receso para café \n\n\n11:15 – 12:00 horas – Violencia y acoso contra periodistas. Diagnóstico y estrategias de defensa \n\n\nLeopoldo Maldonado\, director en México de Artículo 19. \n\n\nSara Mendiola\, directora ejecutiva del Centro de Investigación y Capacitación Propuesta Cívica \n\n\nModerador: Héctor Guerrero\, periodista en N+ \n\n\n\n\n12:00 – 12:45  horas – Periodismo ante la polarización y el reacomodo geopolítico \n\n\nDaniel Coronell\, presidente de Noticias de Univisión. Estados Unidos \n\n\nCarlos Martínez\, director del Comité de Protección de Periodistas. Nueva York \n\n\nModerador:  Leonardo Kurzio\, analista y autor \n\n\n\n\n12:45 – 13:00 horas – Receso para café \n\n\n13:00 – 13:45 horas – ¿Hacia dónde va en México la transparencia y la rendición de cuentas? \n\n\nEduardo Bohórquez\, Director de Transparencia Mexicana \n\n\nJaqueline Peschard\, Expresidenta del INAI y del Sistema Nacional Anticorrupción. México \n\n\nMario Campos\, académico y analista de medios \n\n\nModerador: Jorge Ramos López\, director de La Silla Rota. México \n\n\n\n\n13:45 – 14:45 Conversatorio: La tormenta perfecta: Desinformación\, plataformas\, IA \n\n\nMartín Etchevers\, Presidente de ADEPA y Gerente de Relaciones Institucionales de Grupo Clarín \n\n\nCristina Tardáguila\, Fundadora de Agenda Lupa. Brasil \n\n\nFranco Piccato\, Director general de Chequeado. Argentina \n\n\n\n\n14: 45  Hrs. Clausura
URL:https://articulo19.org/evento/coloquio-internacional-periodismo-libertad-y-democracia/
LOCATION:Museo Memoria y Tolerancia\, Av. Juárez 8\, Colonia Centro\, Centro\, Cuauhtémoc\,\, Ciudad de México\, CDMX\, 06010\, México
ATTACH;FMTTYPE=image/jpeg:https://articulo19.org/wp-content/uploads/2025/11/G5YDBvFXYAAWhJz.jpeg
END:VEVENT
BEGIN:VEVENT
DTSTART;TZID=America/Mexico_City:20251113T110000
DTEND;TZID=America/Mexico_City:20251113T123000
DTSTAMP:20260421T175946
CREATED:20251111T164203Z
LAST-MODIFIED:20251111T164203Z
UID:32302-1763031600-1763037000@articulo19.org
SUMMARY:Panel: Libertad de expresión y ciberseguridad
DESCRIPTION:
URL:https://articulo19.org/evento/panel-libertad-de-expresion-y-ciberseguridad/
LOCATION:IBERO Puebla\, Blvrd del Niño Poblano 2901\, Unidad Territorial Atlixcáyotl\, Centro Comercial Puebla\, San Andrés Cholula\, Puebla\, 72820\, México
ATTACH;FMTTYPE=image/jpeg:https://articulo19.org/wp-content/uploads/2025/11/Diseño-sin-título-13.jpg
END:VEVENT
BEGIN:VEVENT
DTSTART;TZID=America/Mexico_City:20251022T183000
DTEND;TZID=America/Mexico_City:20251022T193000
DTSTAMP:20260421T175946
CREATED:20251022T041603Z
LAST-MODIFIED:20251022T041603Z
UID:31987-1761157800-1761161400@articulo19.org
SUMMARY:Webinar: Hallazgos de la Publicidad Oficial en 2024 en México
DESCRIPTION:Participan: \n\nLuis Javier Moreno\, Política Colectiva\nLeopoldo Maldonado\, ARTICLE 19\nKennia Velázquez\, Poplab\nErnesto Aroche\, Lado B\nPatricia Mayorga\, Raichali\n\nModeración: Martha Tudón\, ARTICLE 19 \nTransmisión a través de las redes sociales de ARTICLE 19.
URL:https://articulo19.org/evento/webinar-hallazgos-de-la-publicidad-oficial-en-2024-en-mexico/
LOCATION:CDMX
ATTACH;FMTTYPE=image/png:https://articulo19.org/wp-content/uploads/2025/10/mcv_2025_webinar_v2-01-2.png
END:VEVENT
BEGIN:VEVENT
DTSTART;TZID=America/Mexico_City:20250410T160000
DTEND;TZID=America/Mexico_City:20250410T200000
DTSTAMP:20260421T175946
CREATED:20250403T163705Z
LAST-MODIFIED:20250403T165020Z
UID:30809-1744300800-1744315200@articulo19.org
SUMMARY:Jornada "Narrar en la tormenta: independencia y resistencia periodística"
DESCRIPTION:Jornada: Narrar en la tormenta: independencia y resistencia periodística\, programada para el 10 de abril de 2025 en el Centro de Cultura Digital. La conversación es parte de un extenso programa de 3 actividades que incluyen la proyección de dos películas y un conversatorio con todos ustedes involucrados. \n\n\nPrograma de la jornada: \n§   16:00 h | Proyección: Sin control: periodismo bajo vigilancia de J. Bock (67′) \n§   17:00 h | Conversatorio: Narrar en la tormenta: independencia y resistencia periodística \n§      Modera: Leopoldo Maldonado (Artículo 19) \n§      Participan: Santiago Maza (La Corriente del Golfo)\, Armando Talamantes (Quinto Elemento Lab)\, Lucía Lagunes Huerta (Comunicación e Información de la Mujer – CIMAC) \n§   18:30 h | Proyección: Estado de silencio de S. Maza (79′) + Q&A
URL:https://articulo19.org/evento/jornada-narrar-en-la-tormenta-independencia-y-resistencia-periodistica/
LOCATION:Centro de Cultura Digital\, v. P.º de la Reforma S/N\, Juárez\, Miguel Hidalgo\,\, Ciudad de México\, 06600\, México
ATTACH;FMTTYPE=image/jpeg:https://articulo19.org/wp-content/uploads/2025/04/WhatsApp-Image-2025-04-02-at-17.24.56.jpeg
END:VEVENT
BEGIN:VEVENT
DTSTART;TZID=America/Mexico_City:20250410T110000
DTEND;TZID=America/Mexico_City:20250410T140000
DTSTAMP:20260421T175946
CREATED:20250401T205400Z
LAST-MODIFIED:20250403T165221Z
UID:30800-1744282800-1744293600@articulo19.org
SUMMARY:Panel: Resistencia peninsular
DESCRIPTION:Consulta el programa completo aquí
URL:https://articulo19.org/evento/panel-resistencia-peninsular/
LOCATION:CDMX
ATTACH;FMTTYPE=image/jpeg:https://articulo19.org/wp-content/uploads/2025/04/Flyer-2-protestas-Yuc.jpeg
END:VEVENT
BEGIN:VEVENT
DTSTART;TZID=America/Mexico_City:20250409T100000
DTEND;TZID=America/Mexico_City:20250409T130000
DTSTAMP:20260421T175946
CREATED:20250401T210106Z
LAST-MODIFIED:20250401T210106Z
UID:30806-1744192800-1744203600@articulo19.org
SUMMARY:Presentación informe anual 2024: Barreras informativas
DESCRIPTION:
URL:https://articulo19.org/evento/presentacion-informe-anual-2024-barreras-informativas/
LOCATION:Centro Cultural España\, República de Guatemala 18\, Centro\, Cuauhtémoc\, Ciudad de México\, CDMX\, 06020\, México
ATTACH;FMTTYPE=image/png:https://articulo19.org/wp-content/uploads/2025/04/A19_2025_INFORME2024_APARTA-LA-FECHA_Post-FB.png
END:VEVENT
BEGIN:VEVENT
DTSTART;TZID=America/Mexico_City:20250403T090000
DTEND;TZID=America/Mexico_City:20250403T103000
DTSTAMP:20260421T175946
CREATED:20250401T205744Z
LAST-MODIFIED:20250401T205744Z
UID:30803-1743670800-1743676200@articulo19.org
SUMMARY:Presentación de la 5° dirección especializada en atención a periodistas y personas defensoras DDHH.
DESCRIPTION:
URL:https://articulo19.org/evento/presentacion-de-la-5-direccion-especializada-en-atencion-a-periodistas-y-personas-defensoras-ddhh/
LOCATION:CDMX
ATTACH;FMTTYPE=image/jpeg:https://articulo19.org/wp-content/uploads/2025/04/Multimedia-17.jpeg
END:VEVENT
BEGIN:VEVENT
DTSTART;TZID=America/Mexico_City:20250324T160000
DTEND;TZID=America/Mexico_City:20250324T180000
DTSTAMP:20260421T175946
CREATED:20250319T214713Z
LAST-MODIFIED:20250319T214713Z
UID:30682-1742832000-1742839200@articulo19.org
SUMMARY:Estreno | Cortometraje "The Shooting"
DESCRIPTION:The Shooting es un cortometraje que retrata la realidad del periodismo en México. \nEs una producción de Oriental Films\, en colaboración con Grey México y ARTICLE 19 México y Centroamérica \n 
URL:https://articulo19.org/evento/estreno-cortometraje-the-shooting/
LOCATION:Odisea Cinecafé\, Av. de la Paz 57-1er\, San Ángel\, Álvaro Obregón\, Ciudad de México\, CDMX\, 01000\, México
ATTACH;FMTTYPE=image/jpeg:https://articulo19.org/wp-content/uploads/2025/03/ARTICLE-19-invitation-3.jpg
END:VEVENT
BEGIN:VEVENT
DTSTART;TZID=America/Mexico_City:20250227T160000
DTEND;TZID=America/Mexico_City:20250227T180000
DTSTAMP:20260421T175946
CREATED:20250220T180638Z
LAST-MODIFIED:20250220T180638Z
UID:30299-1740672000-1740679200@articulo19.org
SUMMARY:Presentación del libro "Hasta encontrarles"
DESCRIPTION:El Centro de Estudios Sociológicos de El Colegio de México invita a la presentación del libro «Hasta encontrarles. Crónica de una esperanza en Jalisco: Lulú\, Madre Buscadora» de María de Lourdes Ruiz Bravo. \nParticipan:\nMaría de Lourdes Ruiz Bravo | autora del libro\, activista y fundadora del Colectivo Luz de Esperanza.\nMaría de Vecchi Gerli | Oficiala de Verdad y Memoria en ARTICLE 19\, México y Centroamérica\nGustavo Urbina | Centro de Estudios Sociológicos de El Colegio de México \n  \nTransmisión en vivo aquí
URL:https://articulo19.org/evento/presentacion-del-libro-hasta-encontrarles/
LOCATION:CDMX
ATTACH;FMTTYPE=image/jpeg:https://articulo19.org/wp-content/uploads/2025/02/476557772_1055246396629426_7358130320717664356_n.jpg
END:VEVENT
BEGIN:VEVENT
DTSTART;TZID=America/Mexico_City:20250214T130000
DTEND;TZID=America/Mexico_City:20250214T150000
DTSTAMP:20260421T175946
CREATED:20250130T221641Z
LAST-MODIFIED:20250131T174456Z
UID:30221-1739538000-1739545200@articulo19.org
SUMMARY:Conversatorio “Justicia Ambiental y Acuerdo de Escazú”
DESCRIPTION:Participan: \nDominique Rivas – Conahcyt/ CIIDIR-IPN |  “El Acuerdo de Escazú en latinoamérica: avances y retos desde las políticas públicas” \nMarcos Leyva – EDUCA A.C. |  “Labor de las personas defensoras de derechos humanos”. Presentación de resultado del monitoreo: “Todos sus nombres\, todas sus luchas” \nAbigail Castellanos – Artículo 19 | “El Acuerdo de Escazú y el derecho a la información para la defensa del medio ambiente de Pueblos Indígenas” \n  \nTransmisión en vivo aquí\n 
URL:https://articulo19.org/evento/conversatorio-justicia-ambiental-y-acuerdo-de-escazu/
LOCATION:CDMX
ATTACH;FMTTYPE=image/png:https://articulo19.org/wp-content/uploads/2025/01/art19_2025_flyer-presentacion-guia_02_04.png
END:VEVENT
BEGIN:VEVENT
DTSTART;TZID=America/Mexico_City:20250214T090000
DTEND;TZID=America/Mexico_City:20250214T120000
DTSTAMP:20260421T175946
CREATED:20250124T175317Z
LAST-MODIFIED:20250124T175317Z
UID:30194-1739523600-1739534400@articulo19.org
SUMMARY:Taller “Mecanismos de protección para las personas defensoras de derechos humanos”
DESCRIPTION:Generar un espacio de reflexión donde compartiremos buenas prácticas y herramientas para reducir y hacer frente a agresiones y factores de riesgo asociados a los que se enfrentan las personas defensoras de derechos humanos en el ámbito de su labor. \nRegístrate aquí
URL:https://articulo19.org/evento/taller-mecanismos-de-proteccion-para-las-personas-defensoras-de-derechos-humanos/
LOCATION:CDMX
ATTACH;FMTTYPE=image/png:https://articulo19.org/wp-content/uploads/2025/01/art19_2025_flyer-taller_v3_01.png
END:VEVENT
BEGIN:VEVENT
DTSTART;TZID=America/Mexico_City:20250213T100000
DTEND;TZID=America/Mexico_City:20250213T113000
DTSTAMP:20260421T175946
CREATED:20250121T231417Z
LAST-MODIFIED:20250121T231417Z
UID:30185-1739440800-1739446200@articulo19.org
SUMMARY:Panel: la importancia del derecho de acceso a la información ambiental para la defensa de la tierra y el territorio
DESCRIPTION:Presentación de la “Guía de derecho de acceso a la información ambiental para la defensa de la tierra y el territorio”\, buscando la generación de un espacio de diálogo entre sociedad civil\, academia\, y personas defensoras entorno a las estrategias y herramientas para la defensa de la tierra y el territorio. \nParticipantes: \n\nSilvia Ruiz : Article 19 México y Centroamérica (moderadora)\nMarilyn Alvarado: Article 19 México y Centroamérica.\nLourdes Carrillo: Centro de Derechos Humanos Utsil Kuxtal.\nRodrigo Llanes: CEPHCIS UNAM\nMaribel Ek: Defensora de tierra y territorio.\nOtto Castillo: Centro de Investigación Aplicada en Derechos Humanos de la CODHEY
URL:https://articulo19.org/evento/panel-la-importancia-del-derecho-de-acceso-a-la-informacion-ambiental-para-la-defensa-de-la-tierra-y-el-territorio/
LOCATION:Auditorio del CEPHCIS UNAM en Mérida\, Yucatán\, C. 43 SN\, Industrial\, Mérida\, Yucatán\, 97150
ATTACH;FMTTYPE=image/png:https://articulo19.org/wp-content/uploads/2025/01/art19_2025_flyer-presentacion-guia_v2_02-1.png
END:VEVENT
BEGIN:VEVENT
DTSTART;TZID=America/Mexico_City:20250114T150000
DTEND;TZID=America/Mexico_City:20250114T170000
DTSTAMP:20260421T175946
CREATED:20250110T230213Z
LAST-MODIFIED:20250110T230213Z
UID:30148-1736866800-1736874000@articulo19.org
SUMMARY:Conversatorio “La decisión de Meta vs. América Latina ¿y ahora qué?”
DESCRIPTION:Transmisión en vivo aquí
URL:https://articulo19.org/evento/conversatorio-la-decision-de-meta-vs-america-latina-y-ahora-que/
LOCATION:CDMX
ATTACH;FMTTYPE=image/jpeg:https://articulo19.org/wp-content/uploads/2025/01/Gg8vDX8X0AEq0KA.jpeg
END:VEVENT
BEGIN:VEVENT
DTSTART;TZID=America/Mexico_City:20241122T110000
DTEND;TZID=America/Mexico_City:20241123T160000
DTSTAMP:20260421T175946
CREATED:20241122T162616Z
LAST-MODIFIED:20241122T162616Z
UID:30011-1732273200-1732377600@articulo19.org
SUMMARY:Cumbre Mundial de Periodismo 2024
DESCRIPTION:El cambio climático y su impacto en las mujeres y grupos vulnerables en América Latina y el Caribe\n\nLos problemas globales complejos necesitan enfoques creativos y colaborativos para informar al público y ayudar a encontrar soluciones. Este noviembre\, la organización benéfica de desarrollo mediático One World Media y el colectivo de periodismo de investigación POPLab unirán fuerzas para llevar a cabo una Cumbre en Londres y Ciudad de México con un enfoque en América Latina y el Caribe. Este evento explorará el papel que pueden desempeñar los cineastas y periodistas en la confrontación de este urgente desafío social. \nAl reunir a periodistas\, cineastas\, organizaciones comunitarias\, estudiantes universitarios y expertos en políticas para participar en una rica combinación de charlas breves\, talleres y proyecciones\, exploraremos las oportunidades e ideas que pueden hacer una diferencia. Discutiremos cómo informar éticamente sobre la crisis climática y cómo contar historias puede influir en los responsables de políticas y líderes. \nEl evento será transmitido en vivo. Los talleres no se transmitirán en vivo\, pero se pondrán a disposición recursos de las sesiones después de la Cumbre. \nConsulta el programa completo aquí
URL:https://articulo19.org/evento/cumbre-mundial-de-periodismo-2024/
LOCATION:Centro de Cultura Digital\, v. P.º de la Reforma S/N\, Juárez\, Miguel Hidalgo\,\, Ciudad de México\, 06600\, México
ATTACH;FMTTYPE=image/jpeg:https://articulo19.org/wp-content/uploads/2024/11/GaCCq7cWgAACqzq.jpeg
END:VEVENT
BEGIN:VEVENT
DTSTART;TZID=America/Mexico_City:20241120T080000
DTEND;TZID=America/Mexico_City:20241120T180000
DTSTAMP:20260421T175946
CREATED:20241119T211722Z
LAST-MODIFIED:20241119T211805Z
UID:29994-1732089600-1732125600@articulo19.org
SUMMARY:El Foro Alianza de Medios MX 2024
DESCRIPTION:El Foro Alianza de Medios MX 2024 es un evento fundamental para el ecosistema periodístico de México. En este espacio se congregarán líderes de la industria para discutir temas de relevancia crítica\, desde el impacto de la inteligencia artificial en la desinformación\, hasta los desafíos de la cobertura de violencia y las relaciones entre el gobierno y los medios. \nAgenda:  \nIA y desinformación: el doble filo de la tecnología \nNuevos consumos\, nuevas narrativas \nSer periodista en México: derechos pendientes \nCubriendo la crisis de violencia: voces desde Sinaloa \nNuevo gobierno: ¿Nueva relación con la prensa? \nEn la Universidad Iberoamericana\, Auditorio Ignacio Ellacuría S.J.\, Edificio “S”\, sótano \n  \nRegístrate aquí\n 
URL:https://articulo19.org/evento/el-foro-alianza-de-medios-mx-2024/
LOCATION:Ibero CDMX\, Prol. P.º de la Reforma\, Santa Fe\, Zedec Sta Fé\, Álvaro Obregón\,\, Ciudad de México\, DF\, 01376\, México
ATTACH;FMTTYPE=image/jpeg:https://articulo19.org/wp-content/uploads/2024/11/HORIZONAL.jpg
END:VEVENT
BEGIN:VEVENT
DTSTART;VALUE=DATE:20241023
DTEND;VALUE=DATE:20241027
DTSTAMP:20260421T175946
CREATED:20241004T160316Z
LAST-MODIFIED:20241004T160316Z
UID:29687-1729641600-1729987199@articulo19.org
SUMMARY:Conferencia Latinoamericana de Periodismo de Investigación 2024
DESCRIPTION:La Conferencia Latinoamericana de Periodismo de Investigación (COLPIN) es el encuentro más importante de periodistas de investigación de la región. Reúne y expone\, durante cuatro días en una ciudad de Latinoamérica\, los mejores trabajos publicados el año anterior en prensa\, radio\, televisión e internet\, en voces de sus autores. \nLa edición número 15 de la COLPIN se llevará a cabo el miércoles 23\, jueves 24\, viernes 25 y sábado 26 de octubre\, en la Casa de América (Madrid). \nTe invitamos consultar el programa completo aquí
URL:https://articulo19.org/evento/conferencia-latinoamericana-de-periodismo-de-investigacion-2024/
LOCATION:CDMX
ATTACH;FMTTYPE=image/png:https://articulo19.org/wp-content/uploads/2024/10/GYu-JkDW0AAJvby.png
END:VEVENT
BEGIN:VEVENT
DTSTART;TZID=America/Mexico_City:20241017T160000
DTEND;TZID=America/Mexico_City:20241018T180000
DTSTAMP:20260421T175946
CREATED:20241003T230337Z
LAST-MODIFIED:20241003T230337Z
UID:29683-1729180800-1729274400@articulo19.org
SUMMARY:5to Congreso Radios Comunitarias
DESCRIPTION:Transmisión en vivo aquí
URL:https://articulo19.org/evento/5to-congreso-radios-comunitarias/
LOCATION:CDMX
ATTACH;FMTTYPE=image/jpeg:https://articulo19.org/wp-content/uploads/2024/10/461674180_939806004854754_9154823456885044450_n.jpg
END:VEVENT
BEGIN:VEVENT
DTSTART;TZID=America/Mexico_City:20241012T153000
DTEND;TZID=America/Mexico_City:20241012T163000
DTSTAMP:20260421T175946
CREATED:20241004T162424Z
LAST-MODIFIED:20241004T163025Z
UID:29690-1728747000-1728750600@articulo19.org
SUMMARY:Presentación Veracruz de los Silencios en la FIL del Zócalo
DESCRIPTION:En el marco de la Feria Internacional del Libro Zócalo de la Ciudad de México\, te invitamos a esta charla sobre la investigación periodística «Veracruz de los Silencios»\, la cual analiza el periodo más violento para la prensa en esa entidad\, del 2010 al 2016. \n  \n 
URL:https://articulo19.org/evento/presentacion-veracruz-de-los-silencios-en-la-fil-del-zocalo/
LOCATION:Zocalo CDMX
ATTACH;FMTTYPE=image/jpeg:https://articulo19.org/wp-content/uploads/2024/10/feria-del-libro-veracruz-de-los-silencios.jpeg
END:VEVENT
BEGIN:VEVENT
DTSTART;TZID=America/Mexico_City:20241010T183000
DTEND;TZID=America/Mexico_City:20241010T193000
DTSTAMP:20260421T175946
CREATED:20241010T161918Z
LAST-MODIFIED:20241010T161918Z
UID:29721-1728585000-1728588600@articulo19.org
SUMMARY:El Futuro del Derecho a Saber
DESCRIPTION:
URL:https://articulo19.org/evento/el-futuro-del-derecho-a-saber-2/
LOCATION:CDMX
ATTACH;FMTTYPE=image/jpeg:https://articulo19.org/wp-content/uploads/2024/10/GZabZVza4AAHO_7.jpeg
END:VEVENT
BEGIN:VEVENT
DTSTART;TZID=America/Mexico_City:20241010T160000
DTEND;TZID=America/Mexico_City:20241010T210000
DTSTAMP:20260421T175946
CREATED:20241010T163246Z
LAST-MODIFIED:20241010T163246Z
UID:29724-1728576000-1728594000@articulo19.org
SUMMARY:Presentación del informe final del Mecanismo de Esclarecimiento Histórico
DESCRIPTION:Transmisión en vivo
URL:https://articulo19.org/evento/presentacion-del-informe-final-del-mecanismo-de-esclarecimiento-historico/
LOCATION:CCU Tlatelolco\, Av. Ricardo Flores Magón 1\, Tlatelolco\, Cuauhtémoc\,\, Ciudad de México\, 06900\, México
ATTACH;FMTTYPE=image/jpeg:https://articulo19.org/wp-content/uploads/2024/10/WhatsApp-Image-2024-10-08-at-12.44.12.jpeg
END:VEVENT
BEGIN:VEVENT
DTSTART;TZID=America/Mexico_City:20241010T103000
DTEND;TZID=America/Mexico_City:20241010T123000
DTSTAMP:20260421T175946
CREATED:20241010T161226Z
LAST-MODIFIED:20241010T161226Z
UID:29718-1728556200-1728563400@articulo19.org
SUMMARY:Conferencia de prensa: A un mes de la represión en Xochimilco
DESCRIPTION:El 5 de septiembre de 2024 \, la Alcaldía Xochimilco y elementos de la policía de la Ciudad de México reprimieron y criminalizaron a manifestantes\, personas defensoras y periodistas en su derecho legítimo a protestar. \n A un mes del uso excesivo de la fuerza en #Xochimilco\, siguen abiertas las investigaciones contra manifestantes y periodistas.
URL:https://articulo19.org/evento/conferencia-de-prensa-a-un-mes-de-la-represion-en-xochimilco/
LOCATION:Centro PRODH\, Serapio Rendón 57B\, San Rafael\, Ciudad de México\, Ciudad de México\, DF\, 06470\, México
ATTACH;FMTTYPE=image/jpeg:https://articulo19.org/wp-content/uploads/2024/10/GZihQp8XQAA8c_3.jpeg
END:VEVENT
END:VCALENDAR